BEGIN:VCALENDAR
VERSION:2.0
PRODID:-//InvisionCommunity Events 4.7.24//EN
METHOD:PUBLISH
CALSCALE:GREGORIAN
REFRESH-INTERVAL:PT15M
X-PUBLISHED-TTL:PT15M
X-WR-CALNAME:Events
NAME:Events
BEGIN:VTIMEZONE
TZID:Europe/London
TZURL:http://tzurl.org/zoneinfo/Europe/London
X-LIC-LOCATION:Europe/London
BEGIN:DAYLIGHT
TZOFFSETFROM:+0000
TZOFFSETTO:+0100
TZNAME:BST
DTSTART:20140330T020000Z
RRULE:FREQ=YEARLY;BYMONTH=3;BYDAY=-1SU
END:DAYLIGHT
BEGIN:STANDARD
TZOFFSETFROM:+0100
TZOFFSETTO:+0000
TZNAME:GMT
DTSTART:20141026T020000Z
RRULE:FREQ=YEARLY;BYMONTH=10;BYDAY=-1SU
END:STANDARD
END:VTIMEZONE
BEGIN:VEVENT
SUMMARY:GLRF at the San Diego Crew Classic
DTSTAMP:20140130T144318Z
SEQUENCE:1
UID:129-16-ec796bbf34c8e7fcacdc5c87739a9b31@www.glrf.info
ORGANIZER;CN="glrfcentral":rowing@glrf.info
DESCRIPTION:GLRF will host a booth at the 2014 San Diego Crew Classic 0
	4 Apr - 06 Apr 2014 Crown Point ShoresMission BaySan DiegoUnited States 
	Stop by the booth to say hi\, check out our great GLRF Gear\, get a naked 
	rowing calendar to keep your mind totally focused on rowers every month of
	 the year\, and shop for some of your favorite and wild spandex shorts. C
	an't wait to get your gear or a calendar? Check out the new Shop At GLRF.
	 Booth hours: Friday\, 04 Apr 2014: 11:00h. - 18:00h.Saturday\, 05 Apr 2
	014: 07:30h. - 18:00h.Sunday\, 06 Apr 2014 07:30h. - 16:00h.
DTSTART;VALUE=DATE:20140404
DTEND;VALUE=DATE:20140407
END:VEVENT
END:VCALENDAR
